BEGIN:VCALENDAR
VERSION:2.0
CALSCALE:GREGORIAN
PRODID:adamgibbons/ics
METHOD:PUBLISH
X-PUBLISHED-TTL:PT1H
BEGIN:VEVENT
UID:126@bootblack.events
SUMMARY:Bootblacking @Kinkfest UK
DTSTAMP:20260424T165449Z
DTSTART:20250905T180000Z
DESCRIPTION:Bootblack stand at kinkfest's welcome munch\n\nMore info: https
	://kinkfest.org.uk/schedule/ [https://kinkfest.org.uk/schedule/]
URL:https://bootblack.events/event/bootblacking-kinkfest-uk
LOCATION:Xtasia\, West Bromwich - 140 High St\, West Bromwich B70 6JJ
STATUS:CONFIRMED
CATEGORIES:UK,Bootblack Stand
X-ALT-DESC;FMTTYPE=text/html:<p>Bootblack stand at kinkfest's welcome munch
	</p><p>More info: <a target="_blank" href="https://kinkfest.org.uk/schedul
	e/">https://kinkfest.org.uk/schedule/</a></p>
END:VEVENT
END:VCALENDAR
